BEGIN:VCALENDAR
VERSION:2.0
PRODID:-//【公式】きっかけ番長☆てんつくマンオフィシャルサイト - ECPv6.15.17.1//NONSGML v1.0//EN
CALSCALE:GREGORIAN
METHOD:PUBLISH
X-ORIGINAL-URL:https://tentsukuman.onaka-hoiku.net
X-WR-CALDESC:【公式】きっかけ番長☆てんつくマンオフィシャルサイト のイベント
REFRESH-INTERVAL;VALUE=DURATION:PT1H
X-Robots-Tag:noindex
X-PUBLISHED-TTL:PT1H
BEGIN:VTIMEZONE
TZID:Asia/Tokyo
BEGIN:STANDARD
TZOFFSETFROM:+0900
TZOFFSETTO:+0900
TZNAME:JST
DTSTART:20250101T000000
END:STANDARD
END:VTIMEZONE
BEGIN:VEVENT
DTSTART;TZID=Asia/Tokyo:20260502T093000
DTEND;TZID=Asia/Tokyo:20260502T170000
DTSTAMP:20260423T174931
CREATED:20260319T071832Z
LAST-MODIFIED:20260406T074942Z
UID:1593-1777714200-1777741200@tentsukuman.onaka-hoiku.net
SUMMARY:広島県 福山市
DESCRIPTION:  \nー　てんつくマンからのメッセージ　ー \n地下資源を奪うために国と国が争い　ミサイルが街に落ちる世界。 \nそんな未来を　子どもたちに渡したくない。 \nでも多くの人は思ってしまう。 \n「自分には何もできない」 \n本当にそうだろうか？ \nNEW ERA VOYAGEとは”174の一歩プロジェクト”\n日本には1\,740の市区町村があります。その10分の1、174カ所に希望の拠点をつくる。 \n街のゴミ拾いや海のビーチクリーンを通して、新しい時代を動かしていくプロジェクトです。 \n地下資源を奪い合う時代から　地上資源を分かち合う時代へ。そんな新時代を創るブームを広げるために2026年4月15日〜7月6日 \n沖縄から北海道まで　日本を飛び回り新時代を創る174人の仲間を探す航海 \n『NEW ERA VOYAGE』（ニューエラボヤージュ）キャラバンに行きます。 \n \n日本各地でゴミ拾いをしながら　新時代の話をし、仲間を増やす　希望しかないトークライブを全国で開催します。そして今回、新時代創設メンバー「虹の天使」を174人募集します。あなたの街の市区町村リーダーとして　新時代の一歩を広げてくれる仲間です。あなたの一歩が　新しい時代を動かします！ \nまずはトークライブにお越しください！お待ちしています！＞広島県福山市のお申込みはこちらから \nーーー \n開催概要 \n✨日にち：2026年5月2日(土) \n✨場所：真宗大谷派　光円寺 \n広島県福山市大門町津之下792🚗アクセスのご案内駐車場30台あり　大門駅より徒歩20分 \n✨プログラム：多少前後したり変更することもあります。 \n9時半　開場　書き下ろし＆物販TIME \n10時　トークライブ・質疑応答＆虹の天使になりたい人のための詳細説明12時　トークライブ終了 \n　　　　休憩・書き下ろし＆物販TIME \n14時　希望を進化させるワークショップ16時　ワークショップ終了17時　片付け・完全撤収
URL:https://tentsukuman.onaka-hoiku.net/event/hiroshima
LOCATION:真宗大谷派　光円寺\, 広島県 福山市大門町津之下792
END:VEVENT
BEGIN:VEVENT
DTSTART;TZID=Asia/Tokyo:20260504T093000
DTEND;TZID=Asia/Tokyo:20260504T170000
DTSTAMP:20260423T174931
CREATED:20260319T072005Z
LAST-MODIFIED:20260406T075710Z
UID:1597-1777887000-1777914000@tentsukuman.onaka-hoiku.net
SUMMARY:香川県 高松市
DESCRIPTION:  \nー　てんつくマンからのメッセージ　ー \n地下資源を奪うために国と国が争い　ミサイルが街に落ちる世界。 \nそんな未来を　子どもたちに渡したくない。 \nでも多くの人は思ってしまう。 \n「自分には何もできない」 \n本当にそうだろうか？ \nNEW ERA VOYAGEとは”174の一歩プロジェクト”\n日本には1\,740の市区町村があります。その10分の1、174カ所に希望の拠点をつくる。 \n街のゴミ拾いや海のビーチクリーンを通して、新しい時代を動かしていくプロジェクトです。 \n地下資源を奪い合う時代から　地上資源を分かち合う時代へ。そんな新時代を創るブームを広げるために2026年4月15日〜7月6日 \n沖縄から北海道まで　日本を飛び回り新時代を創る174人の仲間を探す航海 \n『NEW ERA VOYAGE』（ニューエラボヤージュ）キャラバンに行きます。 \n日本各地でゴミ拾いをしながら　新時代の話をし、仲間を増やす　希望しかないトークライブを全国で開催します。そして今回、新時代創設メンバー「虹の天使」を174人募集します。あなたの街の市区町村リーダーとして　新時代の一歩を広げてくれる仲間です。あなたの一歩が　新しい時代を動かします！ \nまずはトークライブにお越しください！お待ちしています！＞香川県高松市のお申込みはこちらから \nーーー \n開催概要 \n✨日にち：2026年5月4日(祝・月) \n✨場所：ふらっと仏生山（高松市仏生山交流センター）〒761-8078　香川県高松市仏生山町甲218番地1 \n・JR高松駅より車で約20分  \n・ことでん仏生山駅下車より徒歩約4分  \n・駐輪場有・駐車スペース75台(おもいやり駐車場2台含む) \n駐車場は、駐車券を受付にある機械に通すと5時間無料です。 \nそれ以上は主催者に相談ください。 \n・マルシェ出店者で酵素玄米のお弁当🍱大1300円小800円あります❣️ \n4月20日予約締め切り：当日現金にてお支払いください。 \n✨プログラム：多少前後したり変更することもあります。 \n8：00～ 未来の素材集め(ゴミ拾い)・打ち合わせ \n※建物には入れません9：30 書き下ろし・物販 \n【マルシェ開催(雑貨・服・お弁当・スイーツ・手相鑑定）】10：00 トークライブ12：00 ランチTIME \n【マルシェ開催(雑貨・服・お弁当・スイーツ・手相鑑定）】 \n14：00 希望を進化させるWS16：00 フリートーク＆物販・マルシェ16：30 片付け17：00 完全撤収 \n【主催者の想い】 \n2月初めに骨折して入院生活の中、急ぐ気持ちとは裏腹に動けずもがく私がいました。 \n私は今は動けない。 \n毎日 3食昼寝付きと医師に冗談交じりに言われながらも \n本当に何もせず過ごす日々に勿体ないという焦りがありました。 \nそんな中、てんつくマンの熱いイベント \n日本横断プロジェクトへの叫びが私のヤル気スイッチを押しました。 \n私が主催者に今回名乗り出たのも、入院生活の中 \n私は何が出来る？動けないの葛藤から、 \n私がやりたい事と私が出来る事が重なった瞬間に手を挙げていました。 \n5月には動けるを想像し毎日にヤル気がどんどん膨らみ、こ \nれは1人でも多くの方に伝えたい、それが私が今出来る事なんだと。 \nそんな時を一緒に過ごせる仲間達と舵を切って日本から動いていきたいと思いました。
URL:https://tentsukuman.onaka-hoiku.net/event/takamatsu
LOCATION:ふらっと仏生山　高松市仏生山交流センター\, 高松市仏生山町甲218番地1
END:VEVENT
BEGIN:VEVENT
DTSTART;TZID=Asia/Tokyo:20260505T093000
DTEND;TZID=Asia/Tokyo:20260505T170000
DTSTAMP:20260423T174931
CREATED:20260319T072144Z
LAST-MODIFIED:20260412T092712Z
UID:1600-1777973400-1778000400@tentsukuman.onaka-hoiku.net
SUMMARY:徳島県 徳島市
DESCRIPTION:  \nー　てんつくマンからのメッセージ　ー \n地下資源を奪うために国と国が争い　ミサイルが街に落ちる世界。 \nそんな未来を　子どもたちに渡したくない。 \nでも多くの人は思ってしまう。 \n「自分には何もできない」 \n本当にそうだろうか？ \nNEW ERA VOYAGEとは”174の一歩プロジェクト”\n日本には1\,740の市区町村があります。その10分の1、174カ所に希望の拠点をつくる。 \n街のゴミ拾いや海のビーチクリーンを通して、新しい時代を動かしていくプロジェクトです。 \n地下資源を奪い合う時代から　地上資源を分かち合う時代へ。そんな新時代を創るブームを広げるために2026年4月15日〜7月6日 \n沖縄から北海道まで　日本を飛び回り新時代を創る174人の仲間を探す航海 \n『NEW ERA VOYAGE』（ニューエラボヤージュ）キャラバンに行きます。 \n \n日本各地でゴミ拾いをしながら　新時代の話をし、仲間を増やす　希望しかないトークライブを全国で開催します。そして今回、新時代創設メンバー「虹の天使」を174人募集します。あなたの街の市区町村リーダーとして　新時代の一歩を広げてくれる仲間です。あなたの一歩が　新しい時代を動かします！ \nまずはトークライブにお越しください！お待ちしています！ \nーーー \n開催概要　※4月17日9:30以降のご予約は山本に直接お電話ください※ \n✨日にち：2026年5月5日(火) \n✨場所：とくぎんトモニプラザ〒770-0831徳島市寺島本町西1丁目5番地　 アミコビル東館 9階TEL 088-625-3852＞徳島県徳島市のイベントのお申込みはこちら \n🚗駐車場のご案内 \n駐車場あり（１時間300円） \n※駐車場はアミコに停めれますが、 \n料金上限が無いため、午前午後にご参加される場合は、近くのパーキングがお得です！ \n\n✨プログラム：多少前後したり変更することもあります。 \n9時半　開場　書き下ろし＆物販TIME \n10時　トークライブ・質疑応答＆虹の天使になりたい人のための詳細説明12時　トークライブ終了 \n　　　　休憩・書き下ろし＆物販TIME \n14時　希望を進化させるワークショップ16時　ワークショップ終了16時半〜17時　片付け・完全撤収 \n\n【主催者の想い】 \n徳島がもっともっと元気に！一緒に参加し、 \n発見と気づきの時間を共有したいです。
URL:https://tentsukuman.onaka-hoiku.net/event/tokushima
END:VEVENT
BEGIN:VEVENT
DTSTART;TZID=Asia/Tokyo:20260506T093000
DTEND;TZID=Asia/Tokyo:20260506T170000
DTSTAMP:20260423T174931
CREATED:20260319T072320Z
LAST-MODIFIED:20260406T234859Z
UID:1604-1778059800-1778086800@tentsukuman.onaka-hoiku.net
SUMMARY:高知 宿毛市
DESCRIPTION:  \nー　てんつくマンからのメッセージ　ー \n地下資源を奪うために国と国が争い　ミサイルが街に落ちる世界。 \nそんな未来を　子どもたちに渡したくない。 \nでも多くの人は思ってしまう。 \n「自分には何もできない」 \n本当にそうだろうか？ \nNEW ERA VOYAGEとは”174の一歩プロジェクト”\n日本には1\,740の市区町村があります。その10分の1、174カ所に希望の拠点をつくる。 \n街のゴミ拾いや海のビーチクリーンを通して、新しい時代を動かしていくプロジェクトです。 \n地下資源を奪い合う時代から　地上資源を分かち合う時代へ。そんな新時代を創るブームを広げるために2026年4月15日〜7月6日 \n沖縄から北海道まで　日本を飛び回り新時代を創る174人の仲間を探す航海 \n『NEW ERA VOYAGE』（ニューエラボヤージュ）キャラバンに行きます。 \n \n日本各地でゴミ拾いをしながら　新時代の話をし、仲間を増やす　希望しかないトークライブを全国で開催します。そして今回、新時代創設メンバー「虹の天使」を174人募集します。あなたの街の市区町村リーダーとして　新時代の一歩を広げてくれる仲間です。あなたの一歩が　新しい時代を動かします！ \nまずはトークライブにお越しください！お待ちしています！＞高知県宿毛市のお申込みはこちらから \nーーー \n開催概要 \n✨日にち：2026年5月6日(祝・水) \n✨場所：山里の家 \n〒788-0042 高知県宿毛市橋上町楠山４１−１ \n0880－64－7037 \n🏠事前予約で前泊可能です。申込みフォームにて申込みください♪ \n\n🚗駐車場のご案内公共の交通機関が使えません。車での来場をおすすめします✨(台数は問題ありません)昼食のお弁当ご予約になります。申込みフォームにて申込みください♪ \n✨プログラム：多少前後したり変更することもあります。 \n9時半　開場　書き下ろし＆物販TIME \n10時　トークライブ・質疑応答＆虹の天使になりたい人のための詳細説明12時　トークライブ終了 \n　　　　休憩・書き下ろし＆物販TIME \n14時　希望を進化させるワークショップ16時　ワークショップ終了17時　片付け・完全撤収 \n【主催者の想い】 \n後少しで愛媛県という県境にある高知県の端っこの廃校になった学校でのイベントです。大自然の中の大好きな場所でてんつくマンに会える！こんな夢みたいなことが現実になる！すごい！ここでの出逢いはきっとこれからの人生に影響してきます。ミラクルを経験しにきてください！
URL:https://tentsukuman.onaka-hoiku.net/event/kouchi
LOCATION:山里の家\, 高知県宿毛市橋上町楠山４１−１
END:VEVENT
BEGIN:VEVENT
DTSTART;TZID=Asia/Tokyo:20260507T183000
DTEND;TZID=Asia/Tokyo:20260507T220000
DTSTAMP:20260423T174931
CREATED:20260319T072423Z
LAST-MODIFIED:20260406T235046Z
UID:1607-1778178600-1778191200@tentsukuman.onaka-hoiku.net
SUMMARY:高知 高知市
DESCRIPTION:  \n新時代を創る174人の \n仲間を探し出逢う航海！ \nNEW ERA VOYAGE \n（ニューエラボヤージュ）  \n希望を進化させろ！ \n\n\n\n\n\n　てんつくマンから \nのメッセージ　 \n地下資源を奪うために \n国と国が争い　 \nミサイルが街に \n落ちる世界。 \nそんな未来を　 \n子どもたちに渡したくない。 \nでも多くの人は思ってしまう。 \n「自分には何もできない」 \n本当にそうだろうか？ \nNEW ERA VOYAGEとは\n”174の一歩プロジェクト”\n日本には1\,740の市区町村 \nがあります。その10分の1、174カ所に \n希望の拠点をつくる。 \n街のゴミ拾いや海の \nビーチクリーンを通して、新しい時代を創造していく \nプロジェクトです。 \n地下資源を奪い合う時代から \n　地上資源を分かち合う時代へ。そんな新時代を創る \nブームを広げるために2026年4月15日〜7月6日 \n沖縄から北海道まで　 \n日本を飛び回り新時代を創る \n174人の仲間を探す航海 \n『NEW ERA VOYAGE』 \n（ニューエラボヤージュ）キャラバンに行きます。 \n \n日本各地でゴミ拾いをしながら　 \n新時代の話をし、仲間を増やす　 \n希望しかないトークライブを \n全国で開催します。そして今回、 \nあなたの街の市区町村 \nリーダーとして　 \nしばひでちゃんが \n新時代の一歩を \n広げてくれる仲間として \n高知市でトークライブを \n主催してくれることになりました！あなたの一歩が　 \n新しい時代を動かします！ \nまずはトークライブに \nお越しください！ \nお待ちしています！ \nーーー \n\n\n開催概要 \n✨日にち：2026年5月7日(木) \n✨場所：龍馬の生まれたまち記念館〒780-0901　高知県高知市上町2丁目6−33TEL(088)820-1115 \n・駐車場は数台です。 \n乗り合わせや近くのP、 \nまたは路面電車をご利用ください♪ \n✨プログラム \n多少前後したり変更したり \nすることもあります。 \n18：30　 \n開場　 \n書き下ろし \n＆ \n物販TIME \n19：00　 \nトークライブスタート \n20：30 \nてんつくマン \nand \nしばひで対談 \n21：00　 \nトークライブ終了 \n21：30 \n書き下ろし \n＆ \n物販Time \n21：45 \nイベント終了＞高知県高知市のお申込みはこちらから \n\n\n【主催者の想い】 \nこんにちは！ \n高知生まれの高知育ち、 \nしばひでです！！ \n今年の1月に、 \nてんさんのトークライブの中で \nケミカルリサイクルの話を \n聞かせてもらいました。 \nそこからまだ３ヶ月も \n経たない間に、 \n世界情勢や僕たちを \n取り巻く環境は驚くほど \n変わってしまいました。 \n高知は日本の中でも \nガソリンが最高レベルに \n高い県です。 \nですが、僕たちの生活に \nガソリンは必要不可欠です。 \n地上や海上で \n「永遠のゴミ」と呼ばれる \nプラスチックを集めて \nケミカルリサイクルを行い、 \nそれが石油になる。 \nすでに始まっている \nその取り組みが \nもっともっと現実的に \nなっていくことで、 \n石油を奪い合わずに済んだり、 \n地球上のゴミが資源として \n生まれ変わったり、 \n僕たちの次の世代の \n子どもたちの生活の \n負担も減っていくことに \nなります。 \nこのケミカルリサイクルの価値と \n可能性を1人でも \n多く伝えたい！ \n高知が好き、 \n高知の未来を \n明るいものにしたい！ \n龍馬さんにも \n喜んで貰いたい！！ \n高知の未来を当事者の1人 \nとして考えるきっかけを \nお届け出来ればと \n思っています。 \nぜひ、お知り合いと \nお誘い合わせの上 \nお越しください！
URL:https://tentsukuman.onaka-hoiku.net/event/kouchi-2
LOCATION:龍馬の生まれたまち記念館\, 高知県高知市上町2丁目6−33
END:VEVENT
BEGIN:VEVENT
DTSTART;TZID=Asia/Tokyo:20260510T080000
DTEND;TZID=Asia/Tokyo:20260510T170000
DTSTAMP:20260423T174931
CREATED:20260319T072532Z
LAST-MODIFIED:20260319T072532Z
UID:1610-1778400000-1778432400@tentsukuman.onaka-hoiku.net
SUMMARY:滋賀県 米原
DESCRIPTION:
URL:https://tentsukuman.onaka-hoiku.net/event/%e6%bb%8b%e8%b3%80%e7%9c%8c-%e7%b1%b3%e5%8e%9f
END:VEVENT
BEGIN:VEVENT
DTSTART;TZID=Asia/Tokyo:20260511T100000
DTEND;TZID=Asia/Tokyo:20260511T170000
DTSTAMP:20260423T174931
CREATED:20260319T072701Z
LAST-MODIFIED:20260412T092339Z
UID:1613-1778493600-1778518800@tentsukuman.onaka-hoiku.net
SUMMARY:京都県 亀岡市
DESCRIPTION:  \nー　てんつくマンからのメッセージ　ー \n地下資源を奪うために国と国が争い　ミサイルが街に落ちる世界。 \nそんな未来を　子どもたちに渡したくない。 \nでも多くの人は思ってしまう。 \n「自分には何もできない」 \n本当にそうだろうか？ \nNEW ERA VOYAGEとは”174の一歩プロジェクト”\n日本には1\,740の市区町村があります。その10分の1、174カ所に希望の拠点をつくる。 \n街のゴミ拾いや海のビーチクリーンを通して、新しい時代を動かしていくプロジェクトです。 \n地下資源を奪い合う時代から　地上資源を分かち合う時代へ。そんな新時代を創るブームを広げるために2026年4月15日〜7月6日 \n沖縄から北海道まで　日本を飛び回り新時代を創る174人の仲間を探す航海 \n『NEW ERA VOYAGE』（ニューエラボヤージュ）キャラバンに行きます。 \n \n日本各地でゴミ拾いをしながら　新時代の話をし、仲間を増やす　希望しかないトークライブを全国で開催します。そして今回、新時代創設メンバー「虹の天使」を174人募集します。あなたの街の市区町村リーダーとして　新時代の一歩を広げてくれる仲間です。あなたの一歩が　新しい時代を動かします！ \nまずはトークライブにお越しください！お待ちしています！ \nーーー \n開催概要 \n✨日にち：2026年5月11日(月) \n✨場所：生涯学習施設・道の駅 ガレリアかめおか〒621-0806　京都府亀岡市余部町宝久保1-1TEL. 0771-29-2700 \n🔸トークライブは定員100名 \n🔸ワークショプは定員20名＞京都府亀岡市のイベントのお申込みはこちらです \n🚗駐車場のご案内駐車場400台　※地下駐車場は22時で閉鎖になります \n最寄りバス停”ガレリアかめおか” \n✨プログラム：多少前後したり変更することもあります。 \n11:00ゴミ拾い12:00集合　打ち合わせ12:30会場準備13:00開場　書き下ろし＆物販TIME13:30トークライブスタート15:00質疑応答タイム・虹の天使になりたい人のための詳細説明16:00トークライブ終了　夕食&書き下ろし＆物販TIME17:00五美ひろえLIVE19:00希望を進化させるワークショップ21:00ワークショップ終了22:00片付け・完全撤収 \n【主催者の想い】 \nてんつくマンの想いに共感し、開催する事で地球が更に素敵な星になると感じたからです^o^ \nワクワクして何かしたくてしょうがなくなってくれてたら嬉しいです♪
URL:https://tentsukuman.onaka-hoiku.net/event/kyotokame
END:VEVENT
BEGIN:VEVENT
DTSTART;TZID=Asia/Tokyo:20260513T130000
DTEND;TZID=Asia/Tokyo:20260513T170000
DTSTAMP:20260423T174931
CREATED:20260319T072820Z
LAST-MODIFIED:20260420T220827Z
UID:1616-1778677200-1778691600@tentsukuman.onaka-hoiku.net
SUMMARY:奈良県 生駒市
DESCRIPTION:  \nー　てんつくマンからのメッセージ　ー \n地下資源を奪うために国と国が争い　ミサイルが街に落ちる世界。 \nそんな未来を　子どもたちに渡したくない。 \nでも多くの人は思ってしまう。 \n「自分には何もできない」 \n本当にそうだろうか？ \nNEW ERA VOYAGEとは”174の一歩プロジェクト”\n日本には1\,740の市区町村があります。その10分の1、174カ所に希望の拠点をつくる。 \n街のゴミ拾いや海のビーチクリーンを通して、新しい時代を動かしていくプロジェクトです。 \n地下資源を奪い合う時代から　地上資源を分かち合う時代へ。そんな新時代を創るブームを広げるために2026年4月15日〜7月6日 \n沖縄から北海道まで　日本を飛び回り新時代を創る174人の仲間を探す航海 \n『NEW ERA VOYAGE』（ニューエラボヤージュ）キャラバンに行きます。 \n \n日本各地でゴミ拾いをしながら　新時代の話をし、仲間を増やす　希望しかないトークライブを全国で開催します。そして今回、新時代創設メンバー「虹の天使」を174人募集します。あなたの街の市区町村リーダーとして　新時代の一歩を広げてくれる仲間です。あなたの一歩が　新しい時代を動かします！ \nまずはトークライブにお越しください！お待ちしています！ \nーーー \n開催概要 \n✨日にち：2026年5月13日(水) \n✨場所：生駒市テレワーク＆インキュベーションセンター イコマド元町630-0257 奈良県生駒市元町1-6-12 生駒セイセイビル1階 \n🚗生駒市営駐車場（199台）あり　生駒駅から徒歩3分 \n\n✨プログラム：多少前後したり変更することもあります。 \n13時15分開場13時半　トークライブスタート15時　質疑応答タイム・虹の天使になりたい人のための詳細説明15時半　休憩＆物販TIME16時　　書き下ろし17時　片付け・完全撤収 \n🌷書きおろしは事前予約優先です🎵＞奈良県生駒市のイベントお申込みはこちら \n【主催者の想い】 \nてんつくマン の想いに心を動かされ、 \n「ウゴケバカワル」を奈良の地で体現したいと感じました。 \n自分が一歩動くことで、世界は優しく変わっていく。 \nその可能性を、ここ奈良で出会う仲間と共に感じ、広げていきたい。 \n希望のバトンを受け取り、次へ繋ぐ場を創ります。
URL:https://tentsukuman.onaka-hoiku.net/event/nara
LOCATION:生駒市テレワーク＆インキュベーションセンター イコマド元町\, 生駒市元町1-6-12 生駒セイセイビル1階
END:VEVENT
BEGIN:VEVENT
DTSTART;TZID=Asia/Tokyo:20260514T080000
DTEND;TZID=Asia/Tokyo:20260514T150000
DTSTAMP:20260423T174931
CREATED:20260319T073152Z
LAST-MODIFIED:20260319T073203Z
UID:1619-1778745600-1778770800@tentsukuman.onaka-hoiku.net
SUMMARY:大阪MAIKALAND
DESCRIPTION:準備中
URL:https://tentsukuman.onaka-hoiku.net/event/osaka
END:VEVENT
BEGIN:VEVENT
DTSTART;TZID=Asia/Tokyo:20260520T083000
DTEND;TZID=Asia/Tokyo:20260520T170000
DTSTAMP:20260423T174931
CREATED:20260319T073343Z
LAST-MODIFIED:20260406T235329Z
UID:1621-1779265800-1779296400@tentsukuman.onaka-hoiku.net
SUMMARY:石川県 金沢市
DESCRIPTION:  \nー　てんつくマンからのメッセージ　ー \n地下資源を奪うために国と国が争い　ミサイルが街に落ちる世界。 \nそんな未来を　子どもたちに渡したくない。 \nでも多くの人は思ってしまう。 \n「自分には何もできない」 \n本当にそうだろうか？ \nNEW ERA VOYAGEとは”174の一歩プロジェクト”\n日本には1\,740の市区町村があります。その10分の1、174カ所に希望の拠点をつくる。 \n街のゴミ拾いや海のビーチクリーンを通して、新しい時代を動かしていくプロジェクトです。 \n地下資源を奪い合う時代から　地上資源を分かち合う時代へ。そんな新時代を創るブームを広げるために2026年4月15日〜7月6日 \n沖縄から北海道まで　日本を飛び回り新時代を創る174人の仲間を探す航海 \n『NEW ERA VOYAGE』（ニューエラボヤージュ）キャラバンに行きます。 \n \n日本各地でゴミ拾いをしながら　新時代の話をし、仲間を増やす　希望しかないトークライブを全国で開催します。そして今回、新時代創設メンバー「虹の天使」を174人募集します。あなたの街の市区町村リーダーとして　新時代の一歩を広げてくれる仲間です。あなたの一歩が　新しい時代を動かします！ \nまずはトークライブにお越しください！お待ちしています！ \n \nーーー \n【開催概要】 \n✨日時：2026年5月20日(水)　８：３０〜１７：００ \n✨場所：湯涌創作の森（〒920-1135 金沢市北袋町ヱ36番地） \n⭐️ 8:30〜 9:00　てんつくマンと一緒に『未来の素材集め(ゴミ拾い)』自由参加 予約なしでOK軍手持参お願いします。※建物には入れません \n⭐️ 9:00〜11:00　【マルシェOPEN】書下ろし(要予約)・物販 ※写真撮影含む \n⭐️11:00〜12:00　ランチタイム(休憩)　 \n※飲食スペースは別棟「宿泊棟１F・食事・休憩スペース」になります。 \n　マルシェで美味しいものをご購入いただき、宿泊棟に移動してのご飲食をお願い致します。 \n（マルシェ＆トークライブ会場に於いては「ドリンクのみ」可能となっております。） \n⭐️12:00〜14:00　『トークライブ＆虹天のお話』　おひねり制　1円〜(感動料）　充実の２時間 \n⭐️14:00〜14:30　書下ろし(要予約) \n⭐️14:30〜16:30　『希望を進化させるWS』　人気の為 人数制限あり　２時間／5000円　 \n　　　　　　　　　※予約先着順 \n⭐️14:30〜16:30　マルシェ・物販　※WS中も１Fではマルシェ開催中。 \n⭐️16:30〜17:00　マルシェCLOSE　※17時完全撤収となります。 \n【主催者の想い】 \n『あなたの一歩が、未来を動かす』 \nまずはトークライブへご参加ください。 \nこの金沢の地で、たのしくつながりながら \n“虹の天使”として目覚める仲間と出逢えることを願って。 \n💖現在、当日お手伝いいただける方、出店者さんも募集中‼️　出店に関しては「アースデー」のイメージのマルシェになります。ピンと来た方募集中‼️ \n　まずはお気軽にメールにてお問合せください。　aromanomahoutsukai @reservestock.jp \n主催：高巣むつみ（アロマの魔法使い🧙むっちゃん） \n『結net』『結むら』村長　コミュニティスペース『結-yui』主宰＞石川県金沢市のお申込みはこちらから
URL:https://tentsukuman.onaka-hoiku.net/event/ishikawa
END:VEVENT
BEGIN:VEVENT
DTSTART;TZID=Asia/Tokyo:20260521T083000
DTEND;TZID=Asia/Tokyo:20260521T170000
DTSTAMP:20260423T174931
CREATED:20260319T073446Z
LAST-MODIFIED:20260415T083330Z
UID:1624-1779352200-1779382800@tentsukuman.onaka-hoiku.net
SUMMARY:福井県 小浜市
DESCRIPTION:  \nー　てんつくマンからのメッセージ　ー \n地下資源を奪うために国と国が争い　ミサイルが街に落ちる世界。 \nそんな未来を　子どもたちに渡したくない。 \nでも多くの人は思ってしまう。 \n「自分には何もできない」 \n本当にそうだろうか？ \nNEW ERA VOYAGEとは”174の一歩プロジェクト”\n日本には1\,740の市区町村があります。その10分の1、174カ所に希望の拠点をつくる。 \n街のゴミ拾いや海のビーチクリーンを通して、新しい時代を動かしていくプロジェクトです。 \n地下資源を奪い合う時代から　地上資源を分かち合う時代へ。そんな新時代を創るブームを広げるために2026年4月15日〜7月6日 \n沖縄から北海道まで　日本を飛び回り新時代を創る174人の仲間を探す航海 \n『NEW ERA VOYAGE』（ニューエラボヤージュ）キャラバンに行きます。 \n \n日本各地でゴミ拾いをしながら　新時代の話をし、仲間を増やす　希望しかないトークライブを全国で開催します。そして今回、新時代創設メンバー「虹の天使」を174人募集します。あなたの街の市区町村リーダーとして　新時代の一歩を広げてくれる仲間です。あなたの一歩が　新しい時代を動かします！ \nまずはトークライブにお越しください！お待ちしています！ \nーーー \n開催概要 \n✨日にち：2026年5月21日(木) \n✨場所 \nトークライブ→小浜市まちの駅　旭座　〒917-0069 福井県小浜市小浜白鬚111-1℡0770-52-2000 \n希望を進化させるワークショップ→antique cafe あさい〒917-0063 福井県小浜市小浜酒井1℡0770-52-0081 \n  \n＞福井県小浜市のイベントのお申込みはこちらをクリック \n  \n🚙お車でお越しの方　→最寄りIC：小浜ICより約6分🚃電車、バスでお越しの方　→小浜駅より徒歩5分🚗駐車場のご案内・旭座：無料駐車場台数に限りあり・人魚浜：無料大型駐車場（徒歩約5分）・駅通り駐車場：有料（徒歩約3分）台数に限りあり☕お食事について旭座周辺にカフェ・飲食店がございます📍旭座〜antique cafe あさい徒歩約3分※antique cafe あさいは小浜駅寄りです※コンビニは小浜駅周辺にございます \n✨プログラム：多少前後したり変更することもあります。 \n9時　開場　書き下ろし＆物販TIME \n9時半　トークライブスタート11時　質疑応答タイム・虹の天使になりたい人のための詳細説明11時半　トークライブ終了 \n　　　　書き下ろし＆物販TIME \n12時　片付け・完全撤収　〜昼食＆移動〜13時半　希望を進化させるワークショップ15時半　ワークショップ終了17時　片付け・完全撤収 \n【主催者の想い】 \nてんつくマンの話は、とにかく面白くて、心にまっすぐ届きます✨ \n「動けば変わる」「天まで届くアホになれ」 \nその言葉に背中を押され、一歩踏み出す勇気をもらいました🌈 \nこの想いを、この地域の皆さんにもぜひ知ってほしい。 \n平和な世界は、誰かがつくるものではなく、一人ひとりが「自分にできること」を考え、行動することから始まると思っています🌍 \nそしてそれは、一人ではなく、みんなで取り組むからこそ広がっていくもの✨ \n愛の大切さ、つながる力、行動する勇気—— \nそんな大切なメッセージが詰まった時間を、ぜひ多くの方に体感していただきたいと思っています🍀
URL:https://tentsukuman.onaka-hoiku.net/event/fukui
END:VEVENT
BEGIN:VEVENT
DTSTART;TZID=Asia/Tokyo:20260523T080000
DTEND;TZID=Asia/Tokyo:20260523T170000
DTSTAMP:20260423T174931
CREATED:20260319T073545Z
LAST-MODIFIED:20260319T073640Z
UID:1627-1779523200-1779555600@tentsukuman.onaka-hoiku.net
SUMMARY:愛知県 新城市
DESCRIPTION:準備中
URL:https://tentsukuman.onaka-hoiku.net/event/aichi
END:VEVENT
BEGIN:VEVENT
DTSTART;TZID=Asia/Tokyo:20260524T080000
DTEND;TZID=Asia/Tokyo:20260524T170000
DTSTAMP:20260423T174931
CREATED:20260319T073824Z
LAST-MODIFIED:20260319T073824Z
UID:1630-1779609600-1779642000@tentsukuman.onaka-hoiku.net
SUMMARY:長野県 諏訪市
DESCRIPTION:準備中
URL:https://tentsukuman.onaka-hoiku.net/event/nagano1
END:VEVENT
BEGIN:VEVENT
DTSTART;TZID=Asia/Tokyo:20260524T080000
DTEND;TZID=Asia/Tokyo:20260524T170000
DTSTAMP:20260423T174931
CREATED:20260322T235545Z
LAST-MODIFIED:20260322T235545Z
UID:1727-1779609600-1779642000@tentsukuman.onaka-hoiku.net
SUMMARY:長野
DESCRIPTION:
URL:https://tentsukuman.onaka-hoiku.net/event/nagano1-2
END:VEVENT
BEGIN:VEVENT
DTSTART;TZID=Asia/Tokyo:20260525T080000
DTEND;TZID=Asia/Tokyo:20260525T170000
DTSTAMP:20260423T174931
CREATED:20260319T073925Z
LAST-MODIFIED:20260319T073925Z
UID:1633-1779696000-1779728400@tentsukuman.onaka-hoiku.net
SUMMARY:長野県
DESCRIPTION:準備中
URL:https://tentsukuman.onaka-hoiku.net/event/nagano2
END:VEVENT
BEGIN:VEVENT
DTSTART;TZID=Asia/Tokyo:20260528T080000
DTEND;TZID=Asia/Tokyo:20260528T170000
DTSTAMP:20260423T174931
CREATED:20260319T075957Z
LAST-MODIFIED:20260319T080127Z
UID:1636-1779955200-1779987600@tentsukuman.onaka-hoiku.net
SUMMARY:三重県
DESCRIPTION:準備中
URL:https://tentsukuman.onaka-hoiku.net/event/mie
END:VEVENT
BEGIN:VEVENT
DTSTART;TZID=Asia/Tokyo:20260530T080000
DTEND;TZID=Asia/Tokyo:20260530T170000
DTSTAMP:20260423T174931
CREATED:20260319T080321Z
LAST-MODIFIED:20260319T080321Z
UID:1643-1780128000-1780160400@tentsukuman.onaka-hoiku.net
SUMMARY:石垣島
DESCRIPTION:準備中
URL:https://tentsukuman.onaka-hoiku.net/event/ishigaki
END:VEVENT
BEGIN:VEVENT
DTSTART;TZID=Asia/Tokyo:20260531T080000
DTEND;TZID=Asia/Tokyo:20260531T170000
DTSTAMP:20260423T174931
CREATED:20260322T235623Z
LAST-MODIFIED:20260322T235623Z
UID:1729-1780214400-1780246800@tentsukuman.onaka-hoiku.net
SUMMARY:沖縄 くくる糸満
DESCRIPTION:
URL:https://tentsukuman.onaka-hoiku.net/event/%e6%b2%96%e7%b8%84-%e3%81%8f%e3%81%8f%e3%82%8b%e7%b3%b8%e6%ba%80
END:VEVENT
END:VCALENDAR