BEGIN:VCALENDAR
VERSION:2.0
PRODID:-//【公式】きっかけ番長☆てんつくマンオフィシャルサイト - ECPv6.15.17.1//NONSGML v1.0//EN
CALSCALE:GREGORIAN
METHOD:PUBLISH
X-ORIGINAL-URL:https://tentsukuman.onaka-hoiku.net
X-WR-CALDESC:【公式】きっかけ番長☆てんつくマンオフィシャルサイト のイベント
REFRESH-INTERVAL;VALUE=DURATION:PT1H
X-Robots-Tag:noindex
X-PUBLISHED-TTL:PT1H
BEGIN:VTIMEZONE
TZID:Asia/Tokyo
BEGIN:STANDARD
TZOFFSETFROM:+0900
TZOFFSETTO:+0900
TZNAME:JST
DTSTART:20250101T000000
END:STANDARD
END:VTIMEZONE
BEGIN:VEVENT
DTSTART;TZID=Asia/Tokyo:20260603T093000
DTEND;TZID=Asia/Tokyo:20260603T170000
DTSTAMP:20260423T191553
CREATED:20260319T080440Z
LAST-MODIFIED:20260415T083023Z
UID:1646-1780479000-1780506000@tentsukuman.onaka-hoiku.net
SUMMARY:岐阜県不破郡関ヶ原町
DESCRIPTION:  \nー　てんつくマンからのメッセージ　ー \n地下資源を奪うために国と国が争い　ミサイルが街に落ちる世界。 \nそんな未来を　子どもたちに渡したくない。 \nでも多くの人は思ってしまう。 \n「自分には何もできない」 \n本当にそうだろうか？ \nNEW ERA VOYAGEとは”174の一歩プロジェクト”\n日本には1\,740の市区町村があります。その10分の1、174カ所に希望の拠点をつくる。 \n街のゴミ拾いや海のビーチクリーンを通して、新しい時代を動かしていくプロジェクトです。 \n地下資源を奪い合う時代から　地上資源を分かち合う時代へ。そんな新時代を創るブームを広げるために2026年4月15日〜7月6日 \n沖縄から北海道まで　日本を飛び回り新時代を創る174人の仲間を探す航海 \n『NEW ERA VOYAGE』（ニューエラボヤージュ）キャラバンに行きます。 \n \n日本各地でゴミ拾いをしながら　新時代の話をし、仲間を増やす　希望しかないトークライブを全国で開催します。そして今回、新時代創設メンバー「虹の天使」を174人募集します。あなたの街の市区町村リーダーとして　新時代の一歩を広げてくれる仲間です。あなたの一歩が　新しい時代を動かします！ \nまずはトークライブにお越しください！お待ちしています！ \nーーー \n開催概要 \n✨日にち：2026年6月3日(水) \n✨場所：関ヶ原ふれあいセンター小ホール〠503-1501　岐阜県不破郡関ヶ原町関ヶ原894-29TEL070-9192-3568(QP) \n🚗駐車場のご案内駐車場有り　 \n最寄り駅JR関ヶ原駅徒歩7分 \n✨プログラム：多少前後したり変更することもあります。 \n8時〜　集合・ゴミ拾い8時30分〜　打ち合わせ9時〜　会場準備9時30分〜　開場　書き下ろし、物販タイム10時〜　トークライブ　スタート11時30分〜　質疑応答QPとのトークセッション12時　トークライブ終了.13時まで　昼食（お弁当1\,000円予約制）13時30分まで　書き下ろし＆物販TIME13時30分〜希望を進化させるワークショップスタート15時30分〜ワークショップ終了17時完全撤収＞岐阜県不破郡関ヶ原町のイベントのお申込みはこちらをクリック \n【主催者の想い】 \n笑いで世界平和笑いで関ヶ原の合戦を鎮魂させる❣️いっぱいオモロいことになります*\(^o^)/
URL:https://tentsukuman.onaka-hoiku.net/event/gifu
LOCATION:関ヶ原ふれあいセンター\, 不破郡関ヶ原町関ヶ原894-29
END:VEVENT
BEGIN:VEVENT
DTSTART;TZID=Asia/Tokyo:20260606T110000
DTEND;TZID=Asia/Tokyo:20260606T170000
DTSTAMP:20260423T191553
CREATED:20260319T080606Z
LAST-MODIFIED:20260415T083218Z
UID:1649-1780743600-1780765200@tentsukuman.onaka-hoiku.net
SUMMARY:静岡県 浜松市
DESCRIPTION:  \nー　てんつくマンからのメッセージ　ー \n地下資源を奪うために国と国が争い　ミサイルが街に落ちる世界。 \nそんな未来を　子どもたちに渡したくない。 \nでも多くの人は思ってしまう。 \n「自分には何もできない」 \n本当にそうだろうか？ \nNEW ERA VOYAGEとは”174の一歩プロジェクト”\n日本には1\,740の市区町村があります。その10分の1、174カ所に希望の拠点をつくる。 \n街のゴミ拾いや海のビーチクリーンを通して、新しい時代を動かしていくプロジェクトです。 \n地下資源を奪い合う時代から　地上資源を分かち合う時代へ。そんな新時代を創るブームを広げるために2026年4月15日〜7月6日 \n沖縄から北海道まで　日本を飛び回り新時代を創る174人の仲間を探す航海 \n『NEW ERA VOYAGE』（ニューエラボヤージュ）キャラバンに行きます。 \n \n日本各地でゴミ拾いをしながら　新時代の話をし、仲間を増やす　希望しかないトークライブを全国で開催します。そして今回、新時代創設メンバー「虹の天使」を174人募集します。あなたの街の市区町村リーダーとして　新時代の一歩を広げてくれる仲間です。あなたの一歩が　新しい時代を動かします！ \nまずはトークライブにお越しください！お待ちしています！ \nーーー \n開催概要 \n✨日にち：2026年6月6日(土) \n✨場所：浜名湖ガーデンパーク　研修室2〒431-1207静岡県浜松市中央区村櫛町5475-1TEL053-488-1500 \n🚗駐車場のご案内駐車場1\,800台あります✨ \n✨プログラム：多少前後したり変更することもあります。 \n10:30　集合・準備11:00　開場・書き下ろし&物販11:30　トークライブスタート13:00　質疑応答タイム・虹の天使になりたい人のための詳細説明13:30　トークライブ終了昼食&書き下ろし&物販TIME14:30　希望を進化させるワークショップ16:30　ワークショップ終了17:00　片付け・完全撤収＞静岡県浜松市のイベントのお申込みはこちらをクリック \n\n【主催者の想い】 \n自分なんてとか自信がないんですとか \nやりたいことがあっても最初の一歩が踏み出せない方や \n人の目を気にして本当の自分を出せずに \n生きるのが辛いという方が \n魂が繋がる一生の仲間と \n面白くてしょうがない人生を歩んでいけるイベントになりますよ！ \n一緒に遊ぼう！
URL:https://tentsukuman.onaka-hoiku.net/event/shizuoka
LOCATION:浜名湖ガーデンパーク　研修室2\, 浜松市中央区村櫛町5475-1
END:VEVENT
BEGIN:VEVENT
DTSTART;TZID=Asia/Tokyo:20260607T080000
DTEND;TZID=Asia/Tokyo:20260607T170000
DTSTAMP:20260423T191553
CREATED:20260319T080711Z
LAST-MODIFIED:20260319T080711Z
UID:1652-1780819200-1780851600@tentsukuman.onaka-hoiku.net
SUMMARY:茨城県 牛久市
DESCRIPTION:準備中
URL:https://tentsukuman.onaka-hoiku.net/event/ibaraki
END:VEVENT
BEGIN:VEVENT
DTSTART;TZID=Asia/Tokyo:20260609T103000
DTEND;TZID=Asia/Tokyo:20260609T170000
DTSTAMP:20260423T191553
CREATED:20260415T075737Z
LAST-MODIFIED:20260415T083133Z
UID:2029-1781001000-1781024400@tentsukuman.onaka-hoiku.net
SUMMARY:埼玉県ふじみ野市
DESCRIPTION:  \nー　てんつくマンからのメッセージ　ー \n地下資源を奪うために国と国が争い　ミサイルが街に落ちる世界。 \nそんな未来を　子どもたちに渡したくない。 \nでも多くの人は思ってしまう。 \n「自分には何もできない」 \n本当にそうだろうか？ \nNEW ERA VOYAGEとは”174の一歩プロジェクト”\n日本には1\,740の市区町村があります。その10分の1、174カ所に希望の拠点をつくる。 \n街のゴミ拾いや海のビーチクリーンを通して、新しい時代を動かしていくプロジェクトです。 \n地下資源を奪い合う時代から　地上資源を分かち合う時代へ。そんな新時代を創るブームを広げるために2026年4月15日〜7月6日 \n沖縄から北海道まで　日本を飛び回り新時代を創る174人の仲間を探す航海 \n『NEW ERA VOYAGE』（ニューエラボヤージュ）キャラバンに行きます。 \n \n日本各地でゴミ拾いをしながら　新時代の話をし、仲間を増やす　希望しかないトークライブを全国で開催します。そして今回、新時代創設メンバー「虹の天使」を174人募集します。あなたの街の市区町村リーダーとして　新時代の一歩を広げてくれる仲間です。あなたの一歩が　新しい時代を動かします！ \nまずはトークライブにお越しください！お待ちしています！ \n〜てんつくマンプロフィール〜 \n⭐︎元祖路上詩人／元お笑い芸人（相方：月亭方正） \n⭐︎吉本興業退社後、路上詩人となり、映画「天国はつくるもの」を制作する。 \n⭐︎NPO法人MAKE THE HEAVENを立ち上げ環境保護活動や災害支援活動を展開。 \n⭐︎高校野球、ゴルファーのメンタルコーチを務め、「プロゴルファーになる！」と海外に行きフィジーで \n　天国の創り方を学ぶ。 \n⭐︎帰国後、不登校の子どもたちと沖縄から北海道を歩くツアーを開催。 \n⭐︎現在は沖縄で、農薬不使用マンゴー農家、妊娠中から通える『おなかの中から保育園』、 \n　個性と感性を伸ばすニュースクール『ミライワライ』を手がける。 \nさらに世界中が友達になれる天国のようなMiraiWaraiCOOOLビレッジを運営中！ \nーーー \n開催概要 \n✨日にち：2026年6月9日(火) \n✨場所：埼玉県ふじみ野市苗間596-14じゃらんじゃらんの実（コミュニティスペース） \n\n🚗アクセスのご案内 \nバスの本数がとても少ないです。 \n10:30の開場には、東武東上線ふじみ野駅東口から10:10位から徒歩15分。11：00〜のトークライブに間に合うには、ふじみ野駅東口発ライフバス10:45です。 \n島田電器前下車。 \n近隣には有料駐車場が少し。 \nお車でいらっしゃりたい方を把握したいので、記入お願いします。（その場合、相乗りお願いしたく。必ず駐車出来る保障ではありません） \n✨プログラム：多少前後したり変更することもあります。 \n🖌️📝書き下ろしとワークショップは、事前予約優先となります📝🖌️ \n10:30　開場　書きおろし＆物販TIME11:00　トークライブスタート🌈13:00　トークライブ終了 \nーランチ　事前予約(1\,000円)でカレーありー \nー書きおろし＆物販TIMEー \n14:30　希望が進化するワークショップスタート🌈16:30　ワークショップ終了17:00撤収＞埼玉県ふじみ野市のイベントのお申込みはこちらをクリック \n🍀書きおろし、とは？ \n”あなたのお名前と目を見てインスピレーションで言葉を書きます” \nという即興で言葉を書く『路上詩人』は、てんつくマンが元祖です✨ \n今のあなたに必要なメッセージを受け取ってください。 \n🍀希望が進化するワークショップ、とは？ \n夢が叶ったり、 \n問題が解決した未来の感情をありありと体験するワークショップ。それよって潜在意識に記憶されるので、理想の未来に近づくスピードがアップします🪽 \n🌷同時開催で【はならっこ蘇遊個展】開催中。 \n私、主催のはならっこは、 \n書き下ろしをてんつくマンから習いました。 \n今回も思うままを絵と書でつぶやきます。ご一緒にお楽しみ頂けたら、うれしいです。 \n🌷ランチのカレー(1\,000円)は予約先着20人となります。 \n食べ物は持ち込み可能です✨ \n（住宅街で周辺には、あまり飲食店がありませんのでご留意ください） \n🌷書きおろしとランチは事前予約優先です🎵 \n【主催者の想い】 \n未来への不安からか、自律神経失調症から不安症になり、 \n心身ともに、全てが信頼出来ず寝たきりで居た時に、 \nてんつくマンの朝の生配信YouTubeに出会いました。 \n\n数々のチャレンジと挫折をしてもなお、 \nチャレンジし続ける姿に勇氣をもらい、 \n私も少しずつ変化出来ました。 \n初主催です。 \nこのイベントを通して自分や周りの変化を楽しみます。 \nお客様にも、小さな一歩は小さな事ではないものだと伝えたいです。 \nそして、大笑いして子供の氣持ちになって帰って欲しいです。
URL:https://tentsukuman.onaka-hoiku.net/event/fujimino
LOCATION:埼玉県ふじみ野市：じゃらんじゃらんの実\, 埼玉県ふじみ野市苗間596-14
END:VEVENT
BEGIN:VEVENT
DTSTART;TZID=Asia/Tokyo:20260610T080000
DTEND;TZID=Asia/Tokyo:20260610T170000
DTSTAMP:20260423T191553
CREATED:20260319T080828Z
LAST-MODIFIED:20260319T080927Z
UID:1655-1781078400-1781110800@tentsukuman.onaka-hoiku.net
SUMMARY:埼玉県 埼玉市大宮区
DESCRIPTION:準備中
URL:https://tentsukuman.onaka-hoiku.net/event/saitama2
END:VEVENT
BEGIN:VEVENT
DTSTART;TZID=Asia/Tokyo:20260613T080000
DTEND;TZID=Asia/Tokyo:20260613T170000
DTSTAMP:20260423T191553
CREATED:20260319T081050Z
LAST-MODIFIED:20260319T081050Z
UID:1659-1781337600-1781370000@tentsukuman.onaka-hoiku.net
SUMMARY:神奈川県 鎌倉市
DESCRIPTION:準備中
URL:https://tentsukuman.onaka-hoiku.net/event/kanagawaken
END:VEVENT
BEGIN:VEVENT
DTSTART;TZID=Asia/Tokyo:20260614T080000
DTEND;TZID=Asia/Tokyo:20260614T170000
DTSTAMP:20260423T191553
CREATED:20260319T081151Z
LAST-MODIFIED:20260319T081151Z
UID:1662-1781424000-1781456400@tentsukuman.onaka-hoiku.net
SUMMARY:東京都 板橋区
DESCRIPTION:準備中
URL:https://tentsukuman.onaka-hoiku.net/event/tokyo
END:VEVENT
BEGIN:VEVENT
DTSTART;TZID=Asia/Tokyo:20260617T080000
DTEND;TZID=Asia/Tokyo:20260617T170000
DTSTAMP:20260423T191553
CREATED:20260319T081259Z
LAST-MODIFIED:20260319T081259Z
UID:1665-1781683200-1781715600@tentsukuman.onaka-hoiku.net
SUMMARY:東京都 八王子市
DESCRIPTION:準備中
URL:https://tentsukuman.onaka-hoiku.net/event/hachioji
END:VEVENT
BEGIN:VEVENT
DTSTART;TZID=Asia/Tokyo:20260617T080000
DTEND;TZID=Asia/Tokyo:20260617T170000
DTSTAMP:20260423T191553
CREATED:20260319T081357Z
LAST-MODIFIED:20260319T081357Z
UID:1668-1781683200-1781715600@tentsukuman.onaka-hoiku.net
SUMMARY:福島県 郡山市
DESCRIPTION:準備中
URL:https://tentsukuman.onaka-hoiku.net/event/fukushima
END:VEVENT
BEGIN:VEVENT
DTSTART;TZID=Asia/Tokyo:20260618T080000
DTEND;TZID=Asia/Tokyo:20260618T170000
DTSTAMP:20260423T191553
CREATED:20260319T081518Z
LAST-MODIFIED:20260319T081518Z
UID:1671-1781769600-1781802000@tentsukuman.onaka-hoiku.net
SUMMARY:新潟県
DESCRIPTION:準備中
URL:https://tentsukuman.onaka-hoiku.net/event/nigata2
END:VEVENT
BEGIN:VEVENT
DTSTART;TZID=Asia/Tokyo:20260620T080000
DTEND;TZID=Asia/Tokyo:20260620T170000
DTSTAMP:20260423T191553
CREATED:20260320T003033Z
LAST-MODIFIED:20260320T003033Z
UID:1687-1781942400-1781974800@tentsukuman.onaka-hoiku.net
SUMMARY:宮城県 仙台市
DESCRIPTION:準備中
URL:https://tentsukuman.onaka-hoiku.net/event/miyagi
END:VEVENT
BEGIN:VEVENT
DTSTART;TZID=Asia/Tokyo:20260621T080000
DTEND;TZID=Asia/Tokyo:20260621T170000
DTSTAMP:20260423T191553
CREATED:20260320T003152Z
LAST-MODIFIED:20260320T003152Z
UID:1690-1782028800-1782061200@tentsukuman.onaka-hoiku.net
SUMMARY:宮城県 仙台市
DESCRIPTION:準備中
URL:https://tentsukuman.onaka-hoiku.net/event/miyagi2
END:VEVENT
BEGIN:VEVENT
DTSTART;TZID=Asia/Tokyo:20260623T080000
DTEND;TZID=Asia/Tokyo:20260623T170000
DTSTAMP:20260423T191553
CREATED:20260320T003626Z
LAST-MODIFIED:20260320T003634Z
UID:1694-1782201600-1782234000@tentsukuman.onaka-hoiku.net
SUMMARY:山形県
DESCRIPTION:準備中
URL:https://tentsukuman.onaka-hoiku.net/event/yamagata
END:VEVENT
BEGIN:VEVENT
DTSTART;TZID=Asia/Tokyo:20260625T080000
DTEND;TZID=Asia/Tokyo:20260625T170000
DTSTAMP:20260423T191553
CREATED:20260320T003755Z
LAST-MODIFIED:20260320T003758Z
UID:1697-1782374400-1782406800@tentsukuman.onaka-hoiku.net
SUMMARY:青森県 青森市
DESCRIPTION:準備中
URL:https://tentsukuman.onaka-hoiku.net/event/aomori
END:VEVENT
BEGIN:VEVENT
DTSTART;TZID=Asia/Tokyo:20260626T080000
DTEND;TZID=Asia/Tokyo:20260626T170000
DTSTAMP:20260423T191553
CREATED:20260320T003847Z
LAST-MODIFIED:20260320T003847Z
UID:1700-1782460800-1782493200@tentsukuman.onaka-hoiku.net
SUMMARY:青森県 青森市
DESCRIPTION:準備中
URL:https://tentsukuman.onaka-hoiku.net/event/aomori2
END:VEVENT
BEGIN:VEVENT
DTSTART;TZID=Asia/Tokyo:20260628T080000
DTEND;TZID=Asia/Tokyo:20260628T170000
DTSTAMP:20260423T191553
CREATED:20260320T003949Z
LAST-MODIFIED:20260320T003949Z
UID:1703-1782633600-1782666000@tentsukuman.onaka-hoiku.net
SUMMARY:岩手県
DESCRIPTION:準備中
URL:https://tentsukuman.onaka-hoiku.net/event/iwate
END:VEVENT
BEGIN:VEVENT
DTSTART;TZID=Asia/Tokyo:20260628T133000
DTEND;TZID=Asia/Tokyo:20260628T170000
DTSTAMP:20260423T191553
CREATED:20260322T235717Z
LAST-MODIFIED:20260323T000040Z
UID:1731-1782653400-1782666000@tentsukuman.onaka-hoiku.net
SUMMARY:絆フェス season3 〜6.28 東京開催〜
DESCRIPTION:＝絆フェス season3＝6.28 東京開催　（全電通ホール） \n  \n【絆フェスとは】大人が本気で笑い本気で走り本気でふざけて本気で泣く場所。いわば全力でアホになれる大人の文化祭。 \n不思議なことに全力でアホになった人から人生が変わっていきます。 \n心が軽くなり人との距離が縮まり「また頑張ろう」と思える自分に戻れる。 \nそれを私たちは何度も見てきました。 \n  \n大人が本気で“アホ”になった日、人生はもう一度動き出す。歌って、踊って、走って、叫んで。肩書きも年齢も脱ぎ捨てて本来の輝きと、眠っていた情熱を取り戻す1日。 \n  \n【こんな想い、ありませんか？】・家族や仕事を優先して、自分はいつも後回し・頑張っているのに満たされない・思いきり笑ったのはいつが最後だろう・このまま年齢を重ねるだけでいいのかな…と思う瞬間があるでも本当はもっと自由にもっと自分らしくもっと人生を楽しみたかったはず。 \nもし少しでも心が動いたならこの1日は、あなたのための時間です。 \n  \n【そして、こんな方にも来てほしい】・最近、本気で挑戦できていない・仕事は順調。でもどこか物足りない・熱量の高い仲間と出会いたい・人生のギアをもう一段上げたい・自分の可能性をもう一度試したい絆フェスはただの「楽しいイベント」ではありません。 \n眠っていたエネルギーを呼び起こす“覚醒の1日”。 \n女性には「解放」を。男性には「挑戦」を。 \nそしてすべての人に人生が動き出すきっかけを届けます。 \n  \n【当日体験できること】観客ではありません。あなたも“主役”です。・全員参加の笑える運動会・みんなで踊るダンス・心が震える合唱・豪華登壇者のトークライブ・初対面でも一瞬で仲間になる一体感 \n気づけば子どものように笑い学生みたいにはしゃぎ大人なのに涙が出る。 \nそんな1日。 \n  \n【豪華登壇者】⭐ 香取貴信⭐ 大嶋啓介⭐ てんつくマン⭐ 吉井雅之⭐ 加賀屋克美⭐ DAI⭐ 若山陽一郎⭐ まさみっちゃん \nこのメンバーが一堂に会する、特別な1日。 \n  \n【主催メッセージ】 \n主催：大島英子私はシングルマザーです。離婚調停、生活苦、心もボロボロ。未来が見えなかった時期がありました。 \nそんな私を救ってくれたのが、絆フェスとその仲間達でした。 \n大人が本気で笑って本気でアホになってただ楽しむ。 \nそれだけで凍っていた心が少しずつ溶けていった。 \n「まだ私、大丈夫かもしれない」 \nそう思えたあの日が、人生の転機でした。 \nだから今度はこの場所を、あなたに届けたい。 \nあなたの人生が、もう一度動き出しますように。 \n  \n【キャンセル・返金について】 \n理由の如何を問わず、チケット購入後のキャンセルや変更はできません。 \n十分ご確認のうえお申し込みください
URL:https://tentsukuman.onaka-hoiku.net/event/kizuna
END:VEVENT
BEGIN:VEVENT
DTSTART;TZID=Asia/Tokyo:20260630T080000
DTEND;TZID=Asia/Tokyo:20260630T170000
DTSTAMP:20260423T191553
CREATED:20260320T004103Z
LAST-MODIFIED:20260320T004103Z
UID:1706-1782806400-1782838800@tentsukuman.onaka-hoiku.net
SUMMARY:北海道 函館市
DESCRIPTION:準備中
URL:https://tentsukuman.onaka-hoiku.net/event/hakodate
END:VEVENT
END:VCALENDAR