BEGIN:VCALENDAR
VERSION:2.0
PRODID:-//【公式】きっかけ番長☆てんつくマンオフィシャルサイト - ECPv6.15.17.1//NONSGML v1.0//EN
CALSCALE:GREGORIAN
METHOD:PUBLISH
X-ORIGINAL-URL:https://tentsukuman.onaka-hoiku.net
X-WR-CALDESC:【公式】きっかけ番長☆てんつくマンオフィシャルサイト のイベント
REFRESH-INTERVAL;VALUE=DURATION:PT1H
X-Robots-Tag:noindex
X-PUBLISHED-TTL:PT1H
BEGIN:VTIMEZONE
TZID:Asia/Tokyo
BEGIN:STANDARD
TZOFFSETFROM:+0900
TZOFFSETTO:+0900
TZNAME:JST
DTSTART:20250101T000000
END:STANDARD
END:VTIMEZONE
BEGIN:VEVENT
DTSTART;TZID=Asia/Tokyo:20260704T080000
DTEND;TZID=Asia/Tokyo:20260704T170000
DTSTAMP:20260423T204640
CREATED:20260320T004214Z
LAST-MODIFIED:20260320T005000Z
UID:1709-1783152000-1783184400@tentsukuman.onaka-hoiku.net
SUMMARY:北海道 釧路市
DESCRIPTION:準備中
URL:https://tentsukuman.onaka-hoiku.net/event/kushirosi
END:VEVENT
BEGIN:VEVENT
DTSTART;TZID=Asia/Tokyo:20260705T080000
DTEND;TZID=Asia/Tokyo:20260705T170000
DTSTAMP:20260423T204640
CREATED:20260320T004305Z
LAST-MODIFIED:20260320T004305Z
UID:1712-1783238400-1783270800@tentsukuman.onaka-hoiku.net
SUMMARY:北海道 旭川市
DESCRIPTION:準備中
URL:https://tentsukuman.onaka-hoiku.net/event/asahikawa
END:VEVENT
BEGIN:VEVENT
DTSTART;TZID=Asia/Tokyo:20260706T080000
DTEND;TZID=Asia/Tokyo:20260706T170000
DTSTAMP:20260423T204640
CREATED:20260320T004358Z
LAST-MODIFIED:20260320T004358Z
UID:1715-1783324800-1783357200@tentsukuman.onaka-hoiku.net
SUMMARY:北海道 札幌市
DESCRIPTION:準備中
URL:https://tentsukuman.onaka-hoiku.net/event/sapporo
END:VEVENT
BEGIN:VEVENT
DTSTART;TZID=Asia/Tokyo:20260708T080000
DTEND;TZID=Asia/Tokyo:20260708T170000
DTSTAMP:20260423T204640
CREATED:20260320T004503Z
LAST-MODIFIED:20260320T004503Z
UID:1718-1783497600-1783530000@tentsukuman.onaka-hoiku.net
SUMMARY:福岡県
DESCRIPTION:準備中
URL:https://tentsukuman.onaka-hoiku.net/event/fukuoka
END:VEVENT
END:VCALENDAR