BEGIN:VCALENDAR
VERSION:2.0
PRODID:-//【公式】きっかけ番長☆てんつくマンオフィシャルサイト - ECPv6.15.17.1//NONSGML v1.0//EN
CALSCALE:GREGORIAN
METHOD:PUBLISH
X-WR-CALNAME:【公式】きっかけ番長☆てんつくマンオフィシャルサイト
X-ORIGINAL-URL:https://tentsukuman.onaka-hoiku.net
X-WR-CALDESC:【公式】きっかけ番長☆てんつくマンオフィシャルサイト のイベント
REFRESH-INTERVAL;VALUE=DURATION:PT1H
X-Robots-Tag:noindex
X-PUBLISHED-TTL:PT1H
BEGIN:VTIMEZONE
TZID:Asia/Tokyo
BEGIN:STANDARD
TZOFFSETFROM:+0900
TZOFFSETTO:+0900
TZNAME:JST
DTSTART:20250101T000000
END:STANDARD
END:VTIMEZONE
BEGIN:VEVENT
DTSTART;TZID=Asia/Tokyo:20260419T093000
DTEND;TZID=Asia/Tokyo:20260419T170000
DTSTAMP:20260423T174653
CREATED:20260319T070304Z
LAST-MODIFIED:20260406T074355Z
UID:1575-1776591000-1776618000@tentsukuman.onaka-hoiku.net
SUMMARY:佐賀（鳥栖市）
DESCRIPTION:  \n佐賀県鳥栖市　てんつくマントークライブ\n新時代を創る174人の仲間を探し出逢う航海！ NEW ERA VOYAGE（ニューエラボヤージュ） 希望を進化させろ！＞佐賀県鳥栖市のお申込みはこちらから \n  \n\n\n\n\n\nー　てんつくマンからのメッセージ　ー \n地下資源を奪うために国と国が争い　ミサイルが街に落ちる世界。 \nそんな未来を　子どもたちに渡したくない。 \nでも多くの人は思ってしまう。 \n「自分には何もできない」 \n本当にそうだろうか？ \nNEW ERA VOYAGEとは”174の一歩プロジェクト”\n日本には1\,740の市区町村があります。その10分の1、174カ所に希望の拠点をつくる。 \n街のゴミ拾いや海のビーチクリーンを通して、新しい時代を動かしていくプロジェクトです。 \n地下資源を奪い合う時代から　地上資源を分かち合う時代へ。そんな新時代を創るブームを広げるために2026年4月15日〜7月6日 \n沖縄から北海道まで　日本を飛び回り新時代を創る174人の仲間を探す航海 \n『NEW ERA VOYAGE』（ニューエラボヤージュ）キャラバンに行きます。 \n \n日本各地でゴミ拾いをしながら　新時代の話をし、仲間を増やす　希望しかないトークライブを全国で開催します。そして今回、新時代創設メンバー「虹の天使」を174人募集します。あなたの街の市区町村リーダーとして　新時代の一歩を広げてくれる仲間です。あなたの一歩が　新しい時代を動かします！ \nまずはトークライブにお越しください！お待ちしています
URL:https://tentsukuman.onaka-hoiku.net/event/saga
LOCATION:佐賀県鳥栖市：みなくる保育園」\, 鳥栖市鎗田町620-4\, 841-0031
END:VEVENT
END:VCALENDAR